BEGIN:VCALENDAR
VERSION:2.0
PRODID:-//Tukios.com/
BEGIN:VEVENT
UID:a9dad601-1837-4e5a-a93b-776ff7a010ee@www.mizellfh.com
DTSTAMP:20260424T024124Z
DTSTART:20260425
SUMMARY:Interment
DESCRIPTION:
URL:https://www.mizellfh.com/obituaries/sheila-simpson
LOCATION: 142 Martin Cemetery Rd  Cherryville MO 65446
GEO:37.844172;-91.2535576
END:VEVENT
END:VCALENDAR