BEGIN:VCALENDAR
VERSION:2.0
PRODID:-//Tukios.com/
BEGIN:VEVENT
UID:46403b87-c91d-4a1b-b582-218695f6ce90@www.mizellfh.com
DTSTAMP:20260424T023408Z
DTSTART:20260425T150000Z
DTEND:20260425T160000Z
SUMMARY:Funeral Service
DESCRIPTION:
URL:https://www.mizellfh.com/obituaries/sheila-simpson
LOCATION:Mizell Funeral Home & Crematory 904 W. Washington Street  Cuba 
	MO 65453
GEO:38.0609258;-91.4095368
END:VEVENT
END:VCALENDAR