BEGIN:VCALENDAR
VERSION:2.0
PRODID:-//Tukios.com/
BEGIN:VEVENT
UID:4636c86d-a087-46cd-a231-c37562b4be6d@www.mizellfh.com
DTSTAMP:20260424T023852Z
DTSTART:20260424T210000Z
DTEND:20260425T010000Z
SUMMARY:Visitation
DESCRIPTION:
URL:https://www.mizellfh.com/obituaries/sheila-simpson
LOCATION:Mizell Funeral Home & Crematory 904 W. Washington Street  Cuba 
	MO 65453
GEO:38.0609258;-91.4095368
END:VEVENT
END:VCALENDAR