BEGIN:VCALENDAR
VERSION:2.0
PRODID:-//Tukios.com/
BEGIN:VEVENT
UID:354b383b-a07e-4e81-89d7-ee31be2eb295@www.mizellfh.com
DTSTAMP:20260424T204844Z
DTSTART:20260428T200000Z
DTEND:20260428T210000Z
SUMMARY:Graveside Service
DESCRIPTION:
URL:https://www.mizellfh.com/obituaries/nancy-weston
LOCATION: Hwy. ZZ @ McLeod St.  Cuba MO 65453
GEO:38.0638131;-91.4196702
END:VEVENT
END:VCALENDAR