BEGIN:VCALENDAR
VERSION:2.0
PRODID:-//Tukios.com/
BEGIN:VEVENT
UID:06de18a8-8c92-4e00-a54d-d18b1a9b28b9@www.mizellfh.com
DTSTAMP:20260424T204844Z
DTSTART:20260428T183000Z
DTEND:20260428T193000Z
SUMMARY:Visitation
DESCRIPTION:
URL:https://www.mizellfh.com/obituaries/nancy-weston
LOCATION:Mizell Funeral Home & Crematory 904 W. Washington Street  Cuba 
	MO 65453
GEO:38.0609258;-91.4095368
END:VEVENT
END:VCALENDAR