BEGIN:VCALENDAR
VERSION:2.0
PRODID:-//Tukios.com/
BEGIN:VEVENT
UID:b39dbf9e-8c7b-496f-9d69-54efd73e0ed6@www.mizellfh.com
DTSTAMP:20260424T233344Z
DTSTART:20260531T190000Z
DTEND:20260531T200000Z
SUMMARY:Celebration of Life
DESCRIPTION:
URL:https://www.mizellfh.com/obituaries/janet-stock
LOCATION: 904 W. Washington Street  Cuba MO 65453
GEO:38.0609258;-91.4095368
END:VEVENT
END:VCALENDAR