BEGIN:VCALENDAR
VERSION:2.0
PRODID:-//Tukios.com/
BEGIN:VEVENT
UID:b24526dd-d5d9-4883-9606-6160ff6ae6d3@www.mizellfh.com
DTSTAMP:20260424T232425Z
DTSTART:20260531T170000Z
DTEND:20260531T190000Z
SUMMARY:Memorial Gathering
DESCRIPTION:
URL:https://www.mizellfh.com/obituaries/janet-stock
LOCATION: 904 W. Washington Street  Cuba MO 65453
GEO:38.0609258;-91.4095368
END:VEVENT
END:VCALENDAR